BEGIN:VCALENDAR
VERSION:2.0
PRODID:-//Danat Education - ECPv6.15.20//NONSGML v1.0//EN
CALSCALE:GREGORIAN
METHOD:PUBLISH
X-ORIGINAL-URL:https://edu.danat.bh
X-WR-CALDESC:Events for Danat Education
REFRESH-INTERVAL;VALUE=DURATION:PT1H
X-Robots-Tag:noindex
X-PUBLISHED-TTL:PT1H
BEGIN:VTIMEZONE
TZID:Asia/Bahrain
BEGIN:STANDARD
TZOFFSETFROM:+0300
TZOFFSETTO:+0300
TZNAME:+03
DTSTART:20250101T000000
END:STANDARD
END:VTIMEZONE
BEGIN:VEVENT
DTSTART;TZID=Asia/Bahrain:20260727T100000
DTEND;TZID=Asia/Bahrain:20260727T140000
DTSTAMP:20260422T052659
CREATED:20251224T080925Z
LAST-MODIFIED:20251224T080925Z
UID:4158-1785146400-1785160800@edu.danat.bh
SUMMARY:Gem-A Introduction to Diamond Grading Workshop
DESCRIPTION:Learn what really makes a diamond shine in this one-day\, hands-on workshop exploring the 4Cs: Cut\, Colour\, Clarity\, and Carat Weight. Guided by a Gem-A Diamond Tutor\, this course is perfect for beginners\, diamond enthusiasts\, or anyone planning to buy a diamond—no experience needed. \n \n  \n 
URL:https://edu.danat.bh/event/gem-a-introduction-to-diamond-grading-workshop-3/
LOCATION:DANAT Headquarters – World Trade Center\, mada mall \, manama\, manama\, Saudi Arabia
END:VEVENT
BEGIN:VEVENT
DTSTART;TZID=Asia/Bahrain:20260728T090000
DTEND;TZID=Asia/Bahrain:20260728T153000
DTSTAMP:20260422T052659
CREATED:20251224T081029Z
LAST-MODIFIED:20251224T081107Z
UID:4160-1785229200-1785252600@edu.danat.bh
SUMMARY:Lab Grown Diamonds Workshop
DESCRIPTION:Explore the world of diamonds with this engaging workshop designed to provide you with a thorough understanding of both natural and laboratory-grown diamonds. Gain expert insights into diamond grading\, pricing\, and market trends through interactive sessions and hands-on learning. \n \n  \n 
URL:https://edu.danat.bh/event/lab-grown-diamonds-workshop-2/
LOCATION:DANAT Headquarters – World Trade Center\, mada mall \, manama\, manama\, Saudi Arabia
END:VEVENT
END:VCALENDAR