BEGIN:VCALENDAR
VERSION:2.0
PRODID:-//Danat Education - ECPv6.15.20//NONSGML v1.0//EN
CALSCALE:GREGORIAN
METHOD:PUBLISH
X-ORIGINAL-URL:https://edu.danat.bh
X-WR-CALDESC:Events for Danat Education
REFRESH-INTERVAL;VALUE=DURATION:PT1H
X-Robots-Tag:noindex
X-PUBLISHED-TTL:PT1H
BEGIN:VTIMEZONE
TZID:Asia/Bahrain
BEGIN:STANDARD
TZOFFSETFROM:+0300
TZOFFSETTO:+0300
TZNAME:+03
DTSTART:20250101T000000
END:STANDARD
END:VTIMEZONE
BEGIN:VEVENT
DTSTART;TZID=Asia/Bahrain:20260426T090000
DTEND;TZID=Asia/Bahrain:20260503T140000
DTSTAMP:20260422T023045
CREATED:20251224T074458Z
LAST-MODIFIED:20251224T074458Z
UID:4147-1777194000-1777816800@edu.danat.bh
SUMMARY:Pearl Program
DESCRIPTION:A course that combines everything on natural\, cultured\, and imitation pearls with a snorkeling expedition and a visit to the Pearling Path (a UNESCO World Heritage Site) in the Kingdom of Bahrain. Course attendees will gain a better understanding of pearls\, with a focus on natural pearls\, the instrumentation used for their identification\, as well as extensive hands-on experience. This course is a unique fusion of hands-on education\, history\, and adventure that will leave you with a deeper appreciation for pearls and a lasting memory of your time in Bahrain. Whether you’re an enthusiast or a professional\, this is the ultimate experience for anyone passionate about the world of pearls. \n\n \n 
URL:https://edu.danat.bh/event/pearl-program-2/
LOCATION:DANAT Headquarters – World Trade Center\, mada mall \, manama\, manama\, Saudi Arabia
END:VEVENT
BEGIN:VEVENT
DTSTART;TZID=Asia/Bahrain:20260511T100000
DTEND;TZID=Asia/Bahrain:20260511T140000
DTSTAMP:20260422T023045
CREATED:20251224T074649Z
LAST-MODIFIED:20251224T074649Z
UID:4150-1778493600-1778508000@edu.danat.bh
SUMMARY:Pearl Principles (English)
DESCRIPTION:The Pearl Principles Course provides individuals with a uniquely condensed introduction to pearls. Attendees will gain considerable insight into the natural and cultured pearls as well as a basic introduction to the instrumentation needed for their identification. Attendees who decide to learn more about pearls and their identification methods\, may enrol on Danat’s “International Pearl Course”\, which is a five-day course that offers a holistic approach to pearl studies\, including hands-on practice using basic and scientific gemmological tools. \n \n  \n 
URL:https://edu.danat.bh/event/pearl-principles-english-5/
LOCATION:DANAT Headquarters – World Trade Center\, mada mall \, manama\, manama\, Saudi Arabia
END:VEVENT
BEGIN:VEVENT
DTSTART;TZID=Asia/Bahrain:20260518T100000
DTEND;TZID=Asia/Bahrain:20260518T140000
DTSTAMP:20260422T023045
CREATED:20251224T074749Z
LAST-MODIFIED:20251224T074835Z
UID:4152-1779098400-1779112800@edu.danat.bh
SUMMARY:Pearl Principles (Arabic)
DESCRIPTION:تُقدِّم دورة أساسيات اللؤلؤ للمشاركين مدخلاً مكثفًا ومتميزًا إلى عالم اللؤلؤ، حيث تتيح لهم اكتساب معرفة معمقة باللآلئ الطبيعية والمستزرعة، إلى جانب التعرف على الأسس الأولية للأجهزة المستخدمة في تحديد أنواعها. كما تتيح هذه الدورة للمشاركين الراغبين في توسيع نطاق خبرتهم مواصلة مسيرتهم التعليمية عبر الالتحاق بدورة اللؤلؤ الدولية التي ينظمها معهد دانات، وهي برنامج تدريبي يمتد لخمسة أيام ويقدّم رؤية شمولية لدراسة اللؤلؤ، تجمع بين الجانب النظري والتطبيق العملي باستخدام الأدوات الجيمولوجية الأساسية والمتقدمة. \n \n  \n 
URL:https://edu.danat.bh/event/pearl-principles-arabic-4/
LOCATION:DANAT Headquarters – World Trade Center\, mada mall \, manama\, manama\, Saudi Arabia
END:VEVENT
END:VCALENDAR