BEGIN:VCALENDAR
VERSION:2.0
PRODID:-//Danat Education - ECPv6.15.20//NONSGML v1.0//EN
CALSCALE:GREGORIAN
METHOD:PUBLISH
X-WR-CALNAME:Danat Education
X-ORIGINAL-URL:https://edu.danat.bh
X-WR-CALDESC:Events for Danat Education
REFRESH-INTERVAL;VALUE=DURATION:PT1H
X-Robots-Tag:noindex
X-PUBLISHED-TTL:PT1H
BEGIN:VTIMEZONE
TZID:Asia/Bahrain
BEGIN:STANDARD
TZOFFSETFROM:+0300
TZOFFSETTO:+0300
TZNAME:+03
DTSTART:20250101T000000
END:STANDARD
END:VTIMEZONE
BEGIN:VEVENT
DTSTART;TZID=Asia/Bahrain:20260114T100000
DTEND;TZID=Asia/Bahrain:20260114T140000
DTSTAMP:20260423T142930
CREATED:20251223T091409Z
LAST-MODIFIED:20251223T091609Z
UID:4116-1768384800-1768399200@edu.danat.bh
SUMMARY:Pearl Principles (English)
DESCRIPTION:The Pearl Principles Course provides individuals with a uniquely condensed introduction to pearls. Attendees will gain considerable insight into the natural and cultured pearls as well as a basic introduction to the instrumentation needed for their identification. Attendees who decide to learn more about pearls and their identification methods\, may enrol on Danat’s “International Pearl Course”\, which is a five-day course that offers a holistic approach to pearl studies\, including hands-on practice using basic and scientific gemmological tools. \n \n  \n 
URL:https://edu.danat.bh/event/gem-a-introduction-to-diamond-grading-workshop/
LOCATION:DANAT Headquarters – World Trade Center\, mada mall \, manama\, manama\, Saudi Arabia
END:VEVENT
BEGIN:VEVENT
DTSTART;TZID=Asia/Bahrain:20260121T100000
DTEND;TZID=Asia/Bahrain:20260121T140000
DTSTAMP:20260423T142930
CREATED:20251215T091809Z
LAST-MODIFIED:20251223T091259Z
UID:4096-1768989600-1769004000@edu.danat.bh
SUMMARY:Gem-A Introduction to Diamond Grading Workshop
DESCRIPTION:Learn what really makes a diamond shine in this one-day\, hands-on workshop exploring the 4Cs: Cut\, Colour\, Clarity\, and Carat Weight. Guided by a Gem-A Diamond Tutor\, this course is perfect for beginners\, diamond enthusiasts\, or anyone planning to buy a diamond—no experience needed. \n\n \n\n  \n 
URL:https://edu.danat.bh/event/pearl-principles-english/
LOCATION:DANAT Headquarters – World Trade Center\, mada mall \, manama\, manama\, Saudi Arabia
END:VEVENT
BEGIN:VEVENT
DTSTART;TZID=Asia/Bahrain:20260126T100000
DTEND;TZID=Asia/Bahrain:20260126T140000
DTSTAMP:20260423T142930
CREATED:20251223T092425Z
LAST-MODIFIED:20251223T092649Z
UID:4120-1769421600-1769436000@edu.danat.bh
SUMMARY:Pearl Principles (Arabic)
DESCRIPTION:تُقدِّم دورة أساسيات اللؤلؤ للمشاركين مدخلاً مكثفًا ومتميزًا إلى عالم اللؤلؤ، حيث تتيح لهم اكتساب معرفة معمقة باللآلئ الطبيعية والمستزرعة، إلى جانب التعرف على الأسس الأولية للأجهزة المستخدمة في تحديد أنواعها. كما تتيح هذه الدورة للمشاركين الراغبين في توسيع نطاق خبرتهم مواصلة مسيرتهم التعليمية عبر الالتحاق بدورة اللؤلؤ الدولية التي ينظمها معهد دانات، وهي برنامج تدريبي يمتد لخمسة أيام ويقدّم رؤية شمولية لدراسة اللؤلؤ، تجمع بين الجانب النظري والتطبيق العملي باستخدام الأدوات الجيمولوجية الأساسية والمتقدمة. \n \n  \n 
URL:https://edu.danat.bh/event/pearl-principles-arabic-2/
LOCATION:DANAT Headquarters – World Trade Center\, mada mall \, manama\, manama\, Saudi Arabia
END:VEVENT
END:VCALENDAR