BEGIN:VCALENDAR
VERSION:2.0
PRODID:-//Danat Education - ECPv6.15.20//NONSGML v1.0//EN
CALSCALE:GREGORIAN
METHOD:PUBLISH
X-WR-CALNAME:Danat Education
X-ORIGINAL-URL:https://edu.danat.bh
X-WR-CALDESC:Events for Danat Education
REFRESH-INTERVAL;VALUE=DURATION:PT1H
X-Robots-Tag:noindex
X-PUBLISHED-TTL:PT1H
BEGIN:VTIMEZONE
TZID:Asia/Bahrain
BEGIN:STANDARD
TZOFFSETFROM:+0300
TZOFFSETTO:+0300
TZNAME:+03
DTSTART:20240101T000000
END:STANDARD
END:VTIMEZONE
BEGIN:VEVENT
DTSTART;VALUE=DATE:20250109
DTEND;VALUE=DATE:20250110
DTSTAMP:20260422T004059
CREATED:20250430T095439Z
LAST-MODIFIED:20250430T103129Z
UID:3043-1736380800-1736467199@edu.danat.bh
SUMMARY:Gem-A Foundation
DESCRIPTION:
URL:https://edu.danat.bh/event/gem-a-foundation/
END:VEVENT
END:VCALENDAR