BEGIN:VCALENDAR
VERSION:2.0
PRODID:-//Danat Education - ECPv6.15.20//NONSGML v1.0//EN
CALSCALE:GREGORIAN
METHOD:PUBLISH
X-WR-CALNAME:Danat Education
X-ORIGINAL-URL:https://edu.danat.bh
X-WR-CALDESC:Events for Danat Education
REFRESH-INTERVAL;VALUE=DURATION:PT1H
X-Robots-Tag:noindex
X-PUBLISHED-TTL:PT1H
BEGIN:VTIMEZONE
TZID:Asia/Bahrain
BEGIN:STANDARD
TZOFFSETFROM:+0300
TZOFFSETTO:+0300
TZNAME:+03
DTSTART:20250101T000000
END:STANDARD
END:VTIMEZONE
BEGIN:VEVENT
DTSTART;TZID=Asia/Bahrain:20260518T100000
DTEND;TZID=Asia/Bahrain:20260518T140000
DTSTAMP:20260422T040132
CREATED:20251224T074749Z
LAST-MODIFIED:20251224T074835Z
UID:4152-1779098400-1779112800@edu.danat.bh
SUMMARY:Pearl Principles (Arabic)
DESCRIPTION:تُقدِّم دورة أساسيات اللؤلؤ للمشاركين مدخلاً مكثفًا ومتميزًا إلى عالم اللؤلؤ، حيث تتيح لهم اكتساب معرفة معمقة باللآلئ الطبيعية والمستزرعة، إلى جانب التعرف على الأسس الأولية للأجهزة المستخدمة في تحديد أنواعها. كما تتيح هذه الدورة للمشاركين الراغبين في توسيع نطاق خبرتهم مواصلة مسيرتهم التعليمية عبر الالتحاق بدورة اللؤلؤ الدولية التي ينظمها معهد دانات، وهي برنامج تدريبي يمتد لخمسة أيام ويقدّم رؤية شمولية لدراسة اللؤلؤ، تجمع بين الجانب النظري والتطبيق العملي باستخدام الأدوات الجيمولوجية الأساسية والمتقدمة. \n \n  \n 
URL:https://edu.danat.bh/event/pearl-principles-arabic-4/
LOCATION:DANAT Headquarters – World Trade Center\, mada mall \, manama\, manama\, Saudi Arabia
END:VEVENT
END:VCALENDAR