BEGIN:VCALENDAR
VERSION:2.0
PRODID:-//Danat Education - ECPv6.15.20//NONSGML v1.0//EN
CALSCALE:GREGORIAN
METHOD:PUBLISH
X-WR-CALNAME:Danat Education
X-ORIGINAL-URL:https://edu.danat.bh
X-WR-CALDESC:Events for Danat Education
REFRESH-INTERVAL;VALUE=DURATION:PT1H
X-Robots-Tag:noindex
X-PUBLISHED-TTL:PT1H
BEGIN:VTIMEZONE
TZID:Asia/Bahrain
BEGIN:STANDARD
TZOFFSETFROM:+0300
TZOFFSETTO:+0300
TZNAME:+03
DTSTART:20250101T000000
END:STANDARD
END:VTIMEZONE
BEGIN:VEVENT
DTSTART;TZID=Asia/Bahrain:20260413T100000
DTEND;TZID=Asia/Bahrain:20260413T140000
DTSTAMP:20260422T040852
CREATED:20251223T105709Z
LAST-MODIFIED:20251223T105748Z
UID:4145-1776074400-1776088800@edu.danat.bh
SUMMARY:Pearl Principles (English)
DESCRIPTION:The Pearl Principles Course provides individuals with a uniquely condensed introduction to pearls. Attendees will gain considerable insight into the natural and cultured pearls as well as a basic introduction to the instrumentation needed for their identification. Attendees who decide to learn more about pearls and their identification methods\, may enrol on Danat’s “International Pearl Course”\, which is a five-day course that offers a holistic approach to pearl studies\, including hands-on practice using basic and scientific gemmological tools. \n \n  \n 
URL:https://edu.danat.bh/event/pearl-principles-english-4/
LOCATION:DANAT Headquarters – World Trade Center\, mada mall \, manama\, manama\, Saudi Arabia
END:VEVENT
END:VCALENDAR