BEGIN:VCALENDAR
VERSION:2.0
PRODID:-//Danat Education - ECPv6.15.20//NONSGML v1.0//EN
CALSCALE:GREGORIAN
METHOD:PUBLISH
X-WR-CALNAME:Danat Education
X-ORIGINAL-URL:https://edu.danat.bh
X-WR-CALDESC:Events for Danat Education
REFRESH-INTERVAL;VALUE=DURATION:PT1H
X-Robots-Tag:noindex
X-PUBLISHED-TTL:PT1H
BEGIN:VTIMEZONE
TZID:Asia/Bahrain
BEGIN:STANDARD
TZOFFSETFROM:+0300
TZOFFSETTO:+0300
TZNAME:+03
DTSTART:20240101T000000
END:STANDARD
END:VTIMEZONE
BEGIN:VEVENT
DTSTART;TZID=Asia/Bahrain:20251024T090000
DTEND;TZID=Asia/Bahrain:20251031T150000
DTSTAMP:20260423T202323
CREATED:20251005T070139Z
LAST-MODIFIED:20251012T131842Z
UID:4037-1761296400-1761922800@edu.danat.bh
SUMMARY:Pearl Program
DESCRIPTION:A course that combines everything on natural\, cultured\, and imitation pearls with a snorkeling expedition and a visit to the Pearling Path (a UNESCO World Heritage \nSite) in the Kingdom of Bahrain. Course attendees will gain a better understanding of pearls\, with a focus on natural pearls\, the instrumentation used for their \nidentification\, as well as extensive hands-on experience. \nLearn more
URL:https://edu.danat.bh/event/pearl-program/
END:VEVENT
END:VCALENDAR