BEGIN:VCALENDAR
VERSION:2.0
PRODID:-//Danat Education - ECPv6.15.20//NONSGML v1.0//EN
CALSCALE:GREGORIAN
METHOD:PUBLISH
X-WR-CALNAME:Danat Education
X-ORIGINAL-URL:https://edu.danat.bh
X-WR-CALDESC:Events for Danat Education
REFRESH-INTERVAL;VALUE=DURATION:PT1H
X-Robots-Tag:noindex
X-PUBLISHED-TTL:PT1H
BEGIN:VTIMEZONE
TZID:Asia/Bahrain
BEGIN:STANDARD
TZOFFSETFROM:+0300
TZOFFSETTO:+0300
TZNAME:+03
DTSTART:20240101T000000
END:STANDARD
END:VTIMEZONE
BEGIN:VEVENT
DTSTART;TZID=Asia/Bahrain:20250923T100000
DTEND;TZID=Asia/Bahrain:20250923T140000
DTSTAMP:20260423T213307
CREATED:20250805T065740Z
LAST-MODIFIED:20250805T065740Z
UID:4034-1758621600-1758636000@edu.danat.bh
SUMMARY:Gem A - Understanding Emeralds (Arabic)
DESCRIPTION:During this practical workshop\, you will learn the physical and optical properties of Emerald along with basic techniques of the most common and readily accessible in- struments\, including the polariscope\, dichroscope\, spectroscope\, refractometer\, microscope and other handheld gemmological tools. \nLearn more \n \n 
URL:https://edu.danat.bh/event/gem-a-understanding-emeralds-arabic/
END:VEVENT
END:VCALENDAR